BEGIN:VCALENDAR
VERSION:2.0
PRODID:HAZ Events
BEGIN:VEVENT
UID:
DTSTAMP:1776775955
SUMMARY:Kindermusikfest
LOCATION:Gro&szlig;er Sendesaal im NDR Konzerthaus
CLASS:PUBLIC
DTSTART:20260509T090000Z
DTEND:20260509T120000Z
END:VEVENT
END:VCALENDAR