BEGIN:VCALENDAR
VERSION:2.0
PRODID:HAZ Events
BEGIN:VEVENT
UID:
DTSTAMP:1776763348
SUMMARY:Dark Wave Party
LOCATION:SubKultur
CLASS:PUBLIC
DTSTART:20260509T190000Z
DTEND:20260509T210000Z
END:VEVENT
END:VCALENDAR