BEGIN:VCALENDAR
VERSION:2.0
PRODID:HAZ Events
BEGIN:VEVENT
UID:
DTSTAMP:1776759075
SUMMARY:Made in Hell Tour: Hell Boulevard, Dust of Apollon
LOCATION:SubKultur
CLASS:PUBLIC
DTSTART:20260515T180000Z
DTEND:20260515T200000Z
END:VEVENT
END:VCALENDAR