BEGIN:VCALENDAR
VERSION:2.0
PRODID:HAZ Events
BEGIN:VEVENT
UID:
DTSTAMP:1776869507
SUMMARY:Acts of Peace in Times of War
LOCATION:Landesmuseum
CLASS:PUBLIC
DTSTART:20260429T170000Z
DTEND:20260429T190000Z
END:VEVENT
END:VCALENDAR