BEGIN:VCALENDAR
VERSION:2.0
PRODID:HAZ Events
BEGIN:VEVENT
UID:
DTSTAMP:1776821652
SUMMARY:Liebe, Lust und andere Katastrophen: Brecht!
LOCATION:
CLASS:PUBLIC
DTSTART:20260513T173000Z
DTEND:20260513T193000Z
END:VEVENT
END:VCALENDAR