BEGIN:VCALENDAR
VERSION:2.0
PRODID:HAZ Events
BEGIN:VEVENT
UID:
DTSTAMP:1776858588
SUMMARY:Bewerben im 21. Jahrhundert
LOCATION:Agentur f&uuml;r Arbeit - Berufsinformationszentrum
CLASS:PUBLIC
DTSTART:20260430T120000Z
DTEND:20260430T140000Z
END:VEVENT
END:VCALENDAR