BEGIN:VCALENDAR
VERSION:2.0
PRODID:HAZ Events
BEGIN:VEVENT
UID:
DTSTAMP:1776805168
SUMMARY:Die deutschen Wurzeln des Zionismus
LOCATION:FZH Vahrenwald
CLASS:PUBLIC
DTSTART:20260507T170000Z
DTEND:20260507T190000Z
END:VEVENT
END:VCALENDAR