BEGIN:VCALENDAR
VERSION:2.0
PRODID:HAZ Events
BEGIN:VEVENT
UID:
DTSTAMP:1776835363
SUMMARY:Bauen mit Magnet-Power
LOCATION:Stadtbibliothek D&ouml;hren
CLASS:PUBLIC
DTSTART:20260502T080000Z
DTEND:20260502T120000Z
END:VEVENT
END:VCALENDAR