BEGIN:VCALENDAR
VERSION:2.0
PRODID:HAZ Events
BEGIN:VEVENT
UID:
DTSTAMP:1776805168
SUMMARY:Silent Book Club: Edition Bothfeld
LOCATION:Stadt- und Schulbibliothek Bothfeld
CLASS:PUBLIC
DTSTART:20260507T150000Z
DTEND:20260507T170000Z
END:VEVENT
END:VCALENDAR