BEGIN:VCALENDAR
VERSION:2.0
PRODID:HAZ Events
BEGIN:VEVENT
UID:
DTSTAMP:1776816261
SUMMARY:Babys in der Bibliothek
LOCATION:Stadtbibliothek Kleefeld
CLASS:PUBLIC
DTSTART:20260507T080000Z
DTEND:20260507T100000Z
END:VEVENT
END:VCALENDAR