BEGIN:VCALENDAR
VERSION:2.0
PRODID:HAZ Events
BEGIN:VEVENT
UID:
DTSTAMP:1776796127
SUMMARY:Babys in der Bibliothek
LOCATION:Stadt- und Schulbibliothek Bothfeld
CLASS:PUBLIC
DTSTART:20260508T080000Z
DTEND:20260508T100000Z
END:VEVENT
END:VCALENDAR