BEGIN:VCALENDAR
VERSION:2.0
PRODID:HAZ Events
BEGIN:VEVENT
UID:
DTSTAMP:1776851394
SUMMARY:Offenes Schachangebot
LOCATION:Stadt- und Schulbibliothek Bothfeld
CLASS:PUBLIC
DTSTART:20260508T120000Z
DTEND:20260508T153000Z
END:VEVENT
END:VCALENDAR