BEGIN:VCALENDAR
VERSION:2.0
PRODID:HAZ Events
BEGIN:VEVENT
UID:
DTSTAMP:1776805149
SUMMARY:Bauen mit Lego
LOCATION:Stadt- und Schulbibliothek Badenstedt
CLASS:PUBLIC
DTSTART:20260507T140000Z
DTEND:20260507T160000Z
END:VEVENT
END:VCALENDAR