BEGIN:VCALENDAR
VERSION:2.0
PRODID:HAZ Events
BEGIN:VEVENT
UID:
DTSTAMP:1776763963
SUMMARY:Deep Passion
LOCATION:Brauhaus Ernst August
CLASS:PUBLIC
DTSTART:20260529T190000Z
DTEND:20260529T210000Z
END:VEVENT
END:VCALENDAR