BEGIN:VCALENDAR
VERSION:2.0
PRODID:HAZ Events
BEGIN:VEVENT
UID:
DTSTAMP:1776791205
SUMMARY:Kleidertauschparty im Dichterviertel
LOCATION:Wohncaf&eacute;
CLASS:PUBLIC
DTSTART:20260508T150000Z
DTEND:20260508T170000Z
END:VEVENT
END:VCALENDAR