BEGIN:VCALENDAR
VERSION:2.0
PRODID:HAZ Events
BEGIN:VEVENT
UID:
DTSTAMP:1776781104
SUMMARY:Geburtsvorbereitung f&uuml;r Paare am Wochenende
LOCATION:
CLASS:PUBLIC
DTSTART:20260510T070000Z
DTEND:20260510T140000Z
END:VEVENT
END:VCALENDAR