BEGIN:VCALENDAR
VERSION:2.0
PRODID:HAZ Events
BEGIN:VEVENT
UID:
DTSTAMP:1776776119
SUMMARY:Geburtsvorbereitung f&uuml;r Paare am Wochenende
LOCATION:
CLASS:PUBLIC
DTSTART:20260509T070000Z
DTEND:20260509T140000Z
END:VEVENT
END:VCALENDAR