BEGIN:VCALENDAR
VERSION:2.0
PRODID:HAZ Events
BEGIN:VEVENT
UID:
DTSTAMP:1776767595
SUMMARY:Le Schwof &ndash; die Perle-Party
LOCATION:
CLASS:PUBLIC
DTSTART:20260509T180000Z
DTEND:20260509T200000Z
END:VEVENT
END:VCALENDAR