BEGIN:VCALENDAR
VERSION:2.0
PRODID:HAZ Events
BEGIN:VEVENT
UID:
DTSTAMP:1776759027
SUMMARY:11. gro&szlig;es BCH-Hoffest
LOCATION:B&eacute;i Ch&eacute;z Heinz
CLASS:PUBLIC
DTSTART:20260514T130000Z
DTEND:20260514T150000Z
END:VEVENT
END:VCALENDAR