BEGIN:VCALENDAR
VERSION:2.0
PRODID:HAZ Events
BEGIN:VEVENT
UID:
DTSTAMP:1776780912
SUMMARY:Jugends&uuml;nden
LOCATION:B&eacute;i Ch&eacute;z Heinz
CLASS:PUBLIC
DTSTART:20260508T203000Z
DTEND:20260508T223000Z
END:VEVENT
END:VCALENDAR