BEGIN:VCALENDAR
VERSION:2.0
PRODID:HAZ Events
BEGIN:VEVENT
UID:
DTSTAMP:1776758996
SUMMARY:Die Nordstadtbraut pr&auml;sentiert: Vex, Socke, Gaffa Ghandi und Gavial
LOCATION:B&eacute;i Ch&eacute;z Heinz
CLASS:PUBLIC
DTSTART:20260514T150000Z
DTEND:20260514T170000Z
END:VEVENT
END:VCALENDAR