BEGIN:VCALENDAR
VERSION:2.0
PRODID:HAZ Events
BEGIN:VEVENT
UID:
DTSTAMP:1776761754
SUMMARY:Dark Room &ndash; Ein Filmriss im Dunkeln
LOCATION:
CLASS:PUBLIC
DTSTART:20260424T173000Z
DTEND:20260424T193000Z
END:VEVENT
END:VCALENDAR