BEGIN:VCALENDAR
VERSION:2.0
PRODID:HAZ Events
BEGIN:VEVENT
UID:
DTSTAMP:1776776012
SUMMARY:Headless-Party
LOCATION:Caf&eacute; Glocksee
CLASS:PUBLIC
DTSTART:20260508T210000Z
DTEND:20260508T230000Z
END:VEVENT
END:VCALENDAR