BEGIN:VCALENDAR
VERSION:2.0
PRODID:HAZ Events
BEGIN:VEVENT
UID:
DTSTAMP:1776816209
SUMMARY:Stadt, Land, Frust &ndash; Eine politische Vermessung
LOCATION:
CLASS:PUBLIC
DTSTART:20260506T170000Z
DTEND:20260506T190000Z
END:VEVENT
END:VCALENDAR