BEGIN:VCALENDAR
VERSION:2.0
PRODID:HAZ Events
BEGIN:VEVENT
UID:
DTSTAMP:1776759083
SUMMARY:Cyril Krueger
LOCATION:Marlene
CLASS:PUBLIC
DTSTART:20260515T180000Z
DTEND:20260515T200000Z
END:VEVENT
END:VCALENDAR