BEGIN:VCALENDAR
VERSION:2.0
PRODID:HAZ Events
BEGIN:VEVENT
UID:
DTSTAMP:1776810850
SUMMARY:Offener Besucherabend
LOCATION:Nieders&auml;chsischer Landtag
CLASS:PUBLIC
DTSTART:20260604T160000Z
DTEND:20260604T180000Z
END:VEVENT
END:VCALENDAR