BEGIN:VCALENDAR
VERSION:2.0
PRODID:HAZ Events
BEGIN:VEVENT
UID:
DTSTAMP:1776835447
SUMMARY:Abenteuerland
LOCATION:Theater am Aegi
CLASS:PUBLIC
DTSTART:20260517T163000Z
DTEND:20260517T183000Z
END:VEVENT
END:VCALENDAR