BEGIN:VCALENDAR
VERSION:2.0
PRODID:HAZ Events
BEGIN:VEVENT
UID:
DTSTAMP:1776835368
SUMMARY:Abenteuerland
LOCATION:Theater am Aegi
CLASS:PUBLIC
DTSTART:20260516T123000Z
DTEND:20260516T143000Z
END:VEVENT
END:VCALENDAR