BEGIN:VCALENDAR
VERSION:2.0
PRODID:HAZ Events
BEGIN:VEVENT
UID:
DTSTAMP:1776835445
SUMMARY:Abenteuerland
LOCATION:Theater am Aegi
CLASS:PUBLIC
DTSTART:20260510T113000Z
DTEND:20260510T133000Z
END:VEVENT
END:VCALENDAR