BEGIN:VCALENDAR
VERSION:2.0
PRODID:HAZ Events
BEGIN:VEVENT
UID:
DTSTAMP:1776835479
SUMMARY:Abenteuerland
LOCATION:Theater am Aegi
CLASS:PUBLIC
DTSTART:20260507T173000Z
DTEND:20260507T193000Z
END:VEVENT
END:VCALENDAR