BEGIN:VCALENDAR
VERSION:2.0
PRODID:HAZ Events
BEGIN:VEVENT
UID:
DTSTAMP:1776829903
SUMMARY:Abenteuerland
LOCATION:Theater am Aegi
CLASS:PUBLIC
DTSTART:20260505T173000Z
DTEND:20260505T193000Z
END:VEVENT
END:VCALENDAR