BEGIN:VCALENDAR
VERSION:2.0
PRODID:HAZ Events
BEGIN:VEVENT
UID:
DTSTAMP:1776674363
SUMMARY:Feierabend-Radtour
LOCATION:
CLASS:PUBLIC
DTSTART:20260429T153000Z
DTEND:20260429T173000Z
END:VEVENT
END:VCALENDAR