BEGIN:VCALENDAR
VERSION:2.0
PRODID:HAZ Events
BEGIN:VEVENT
UID:
DTSTAMP:1776759086
SUMMARY:Sebastian &bdquo;El Hotzo&ldquo; Hotz: Sidekick
LOCATION:
CLASS:PUBLIC
DTSTART:20260514T180000Z
DTEND:20260514T200000Z
END:VEVENT
END:VCALENDAR