BEGIN:VCALENDAR
VERSION:2.0
PRODID:HAZ Events
BEGIN:VEVENT
UID:
DTSTAMP:1776767622
SUMMARY:Laura Br&uuml;mmer: Hochgestapelt
LOCATION:
CLASS:PUBLIC
DTSTART:20260509T170000Z
DTEND:20260509T190000Z
END:VEVENT
END:VCALENDAR