BEGIN:VCALENDAR
VERSION:2.0
PRODID:HAZ Events
BEGIN:VEVENT
UID:
DTSTAMP:1776763973
SUMMARY:Erster Hemminger/Pattenser Wander-Marathon
LOCATION:
CLASS:PUBLIC
DTSTART:20260516T110000Z
DTEND:20260516T130000Z
END:VEVENT
END:VCALENDAR