BEGIN:VCALENDAR
VERSION:2.0
PRODID:HAZ Events
BEGIN:VEVENT
UID:
DTSTAMP:1776846644
SUMMARY:Feier am Maibaum
LOCATION:Bredenbecker Scheune
CLASS:PUBLIC
DTSTART:20260501T083000Z
DTEND:20260501T103000Z
END:VEVENT
END:VCALENDAR