BEGIN:VCALENDAR
VERSION:2.0
PRODID:HAZ Events
BEGIN:VEVENT
UID:
DTSTAMP:1776816312
SUMMARY:Tage der Begegnung
LOCATION:
CLASS:PUBLIC
DTSTART:20260507T074500Z
DTEND:20260507T094500Z
END:VEVENT
END:VCALENDAR