BEGIN:VCALENDAR
VERSION:2.0
PRODID:HAZ Events
BEGIN:VEVENT
UID:
DTSTAMP:1776674363
SUMMARY:Chorprobe 20:20
LOCATION:
CLASS:PUBLIC
DTSTART:20260422T182000Z
DTEND:20260422T202000Z
END:VEVENT
END:VCALENDAR