BEGIN:VCALENDAR
VERSION:2.0
PRODID:HAZ Events
BEGIN:VEVENT
UID:
DTSTAMP:1776828345
SUMMARY:Tutanchamun: Ein immersives Abenteuer
LOCATION:Alte Druckerei
CLASS:PUBLIC
DTSTART:20260719T080000Z
DTEND:20260719T160000Z
END:VEVENT
END:VCALENDAR