BEGIN:VCALENDAR
VERSION:2.0
PRODID:HAZ Events
BEGIN:VEVENT
UID:
DTSTAMP:1776828525
SUMMARY:Tutanchamun: Ein immersives Abenteuer
LOCATION:Alte Druckerei
CLASS:PUBLIC
DTSTART:20260703T080000Z
DTEND:20260703T180000Z
END:VEVENT
END:VCALENDAR