BEGIN:VCALENDAR
VERSION:2.0
PRODID:HAZ Events
BEGIN:VEVENT
UID:
DTSTAMP:1776828445
SUMMARY:Tutanchamun: Ein immersives Abenteuer
LOCATION:Alte Druckerei
CLASS:PUBLIC
DTSTART:20260627T080000Z
DTEND:20260627T180000Z
END:VEVENT
END:VCALENDAR