BEGIN:VCALENDAR
VERSION:2.0
PRODID:HAZ Events
BEGIN:VEVENT
UID:
DTSTAMP:1776828352
SUMMARY:Tutanchamun: Ein immersives Abenteuer
LOCATION:Alte Druckerei
CLASS:PUBLIC
DTSTART:20260610T080000Z
DTEND:20260610T160000Z
END:VEVENT
END:VCALENDAR