BEGIN:VCALENDAR
VERSION:2.0
PRODID:HAZ Events
BEGIN:VEVENT
UID:
DTSTAMP:1776821712
SUMMARY:Tutanchamun: Ein immersives Abenteuer
LOCATION:Alte Druckerei
CLASS:PUBLIC
DTSTART:20260506T080000Z
DTEND:20260506T160000Z
END:VEVENT
END:VCALENDAR