BEGIN:VCALENDAR
VERSION:2.0
PRODID:HAZ Events
BEGIN:VEVENT
UID:
DTSTAMP:1776771861
SUMMARY:Vernissage: Summ_Summ : Summa_Summarum
LOCATION:kik.kunst in kontakt
CLASS:PUBLIC
DTSTART:20260509T140000Z
DTEND:20260509T160000Z
END:VEVENT
END:VCALENDAR