BEGIN:VCALENDAR
VERSION:2.0
PRODID:HAZ Events
BEGIN:VEVENT
UID:
DTSTAMP:1776811086
SUMMARY:Kultur erleben am Vormittag
LOCATION:Museum August Kestner
CLASS:PUBLIC
DTSTART:20260507T091500Z
DTEND:20260507T111500Z
END:VEVENT
END:VCALENDAR