BEGIN:VCALENDAR
VERSION:2.0
PRODID:HAZ Events
BEGIN:VEVENT
UID:
DTSTAMP:1776684496
SUMMARY:Mistakes that already ended &amp; stories that may never be true
LOCATION:
CLASS:PUBLIC
DTSTART:20260719T090000Z
DTEND:20260719T170000Z
END:VEVENT
END:VCALENDAR