BEGIN:VCALENDAR
VERSION:2.0
PRODID:HAZ Events
BEGIN:VEVENT
UID:
DTSTAMP:1776684283
SUMMARY:Unser Hannover: Schwarze Geschichten
LOCATION:
CLASS:PUBLIC
DTSTART:20260719T090000Z
DTEND:20260719T160000Z
END:VEVENT
END:VCALENDAR