BEGIN:VCALENDAR
VERSION:2.0
PRODID:HAZ Events
BEGIN:VEVENT
UID:
DTSTAMP:1776771875
SUMMARY:In Kontakt
LOCATION:Bildungsverein S&uuml;dstadt
CLASS:PUBLIC
DTSTART:20260720T070000Z
DTEND:20260720T150000Z
END:VEVENT
END:VCALENDAR