BEGIN:VCALENDAR
VERSION:2.0
PRODID:HAZ Events
BEGIN:VEVENT
UID:
DTSTAMP:1776771764
SUMMARY:Im Fl&uuml;stern des Lichts
LOCATION:Bildungsverein List
CLASS:PUBLIC
DTSTART:20260720T080000Z
DTEND:20260720T120000Z
END:VEVENT
END:VCALENDAR