BEGIN:VCALENDAR
VERSION:2.0
PRODID:HAZ Events
BEGIN:VEVENT
UID:
DTSTAMP:1776858515
SUMMARY:T*A*N*Z in den Mai
LOCATION:H&ouml;lderlin Eins
CLASS:PUBLIC
DTSTART:20260430T080000Z
DTEND:20260430T204500Z
END:VEVENT
END:VCALENDAR